BEGIN:VCALENDAR
VERSION:2.0
PRODID:-//NAAAP Miami//Silkstart Technology Inc.//
BEGIN:VTIMEZONE
TZID:America/New_York
BEGIN:DAYLIGHT
DTSTART;VALUE=DATE-TIME:20260308T020000
TZNAME:EDT
TZOFFSETFROM:-0500
TZOFFSETTO:-0400
END:DAYLIGHT
BEGIN:STANDARD
DTSTART;VALUE=DATE-TIME:20261101T020000
TZNAME:EST
TZOFFSETFROM:-0400
TZOFFSETTO:-0500
END:STANDARD
END:VTIMEZONE
BEGIN:VEVENT
SUMMARY:8th Annual Picnic: BBQ\, Beach & Outdoor Fun
DTSTART;TZID=America/New_York;VALUE=DATE-TIME:20260503T103000
DTEND;TZID=America/New_York;VALUE=DATE-TIME:20260503T150000
DTSTAMP;VALUE=DATE-TIME:20260423T145354
UID:69ea328257912605d74398da
DESCRIPTION: 8th Annual Family Picnic! May marks the beginning of AAPI 
 Heritage Month\, and we&rsquo\;re celebrating with our biggest outdoor 
 gathering of the year. It&rsquo\;s the perfect opportunity to reconnect 
 with friends and meet new faces across the South Florida Asian community! 
 DATE: Sunday\, May 3\, 2026 TIME: 10:30 AM - 3:00 PM PLACE: Oleta River 
 State Park (White Ibis Pavilion) 3400 NE 163rd St\, North Miami Beach\, FL
  33160 Highlights of the Event: Delicious Food: Savor the traditional 
 crispy pork\, hot dogs\, burgers and other dishes\, served around NOON. 
 Scenic Venue: Enjoy the beautiful ocean views surrounding the park. Games 
 and Prizes: Participate in various games and win exciting prizes. Don't 
 miss out on this wonderful day of celebration and community. We look 
 forward to seeing you there! Regular Registration (expires 04/27/2026) 
 WHAT TO BRING: - Family and Friends - Hat\, Sunblock\, bug spray - Games 
 that you want to share with the group IMPORTANT TO KNOW: - WHITE IBIS is 
 right at the left of the parking lot #1. - Carpool and arrive early to 
 avoid long line at park entrance. - Park Entrance Fee: $4. (single-
 occupant vehicle) \, $6. (2-8 people in vehicle) and $2. (pedestrian). 
 Car-pooling is encouraged. - Park amenities: Paddle boards\, kayaks\, bike
  trails\, etc. - Tickets are transferable but not refundable. See you 
 soon. CONTACT US: 307-707-6865 (Luu) | 305-519-8547 (Jen) 
 info@NAAAPmiami.org Map of Oleta River State Park 
LOCATION:Oleta River State Park\, 3400 NE 163rd St\, North Miami Beach\, FL
  33160\, USA
PRIORITY:5
URL:https://miami.naaap.org:443/events/8th-annual-picnic-bbq-beach-outdoor-
 fun
END:VEVENT
END:VCALENDAR
